BEGIN:VCALENDAR
VERSION:2.0
PRODID:-//Global Harvest, Island Church - ECPv6.7.0//NONSGML v1.0//EN
CALSCALE:GREGORIAN
METHOD:PUBLISH
X-WR-CALNAME:Global Harvest, Island Church
X-ORIGINAL-URL:https://www.gharvestisland.org
X-WR-CALDESC:Events for Global Harvest, Island Church
REFRESH-INTERVAL;VALUE=DURATION:PT1H
X-Robots-Tag:noindex
X-PUBLISHED-TTL:PT1H
BEGIN:VTIMEZONE
TZID:UTC
BEGIN:STANDARD
TZOFFSETFROM:+0000
TZOFFSETTO:+0000
TZNAME:UTC
DTSTART:20240101T000000
END:STANDARD
END:VTIMEZONE
BEGIN:VEVENT
DTSTART;TZID=UTC:20240303T100000
DTEND;TZID=UTC:20240303T120000
DTSTAMP:20260421T230352
CREATED:20240303T083051Z
LAST-MODIFIED:20240301T111403Z
UID:4172-1709460000-1709467200@www.gharvestisland.org
SUMMARY:5 Super Sunday
DESCRIPTION:
URL:https://www.gharvestisland.org/event/5-super-sunday-3/
ATTACH;FMTTYPE=image/jpeg:https://www.gharvestisland.org/wp-content/uploads/2024/02/IMG-20240226-WA0012-10.jpg
END:VEVENT
BEGIN:VEVENT
DTSTART;TZID=UTC:20240306T183000
DTEND;TZID=UTC:20240306T203000
DTSTAMP:20260421T230352
CREATED:20240305T195539Z
LAST-MODIFIED:20240312T142257Z
UID:4231-1709749800-1709757000@www.gharvestisland.org
SUMMARY:Discerning Divine Direction 5.0
DESCRIPTION:
URL:https://www.gharvestisland.org/event/discerning-divine-direction-5-0/
CATEGORIES:Mid Week Service
ATTACH;FMTTYPE=image/png:https://www.gharvestisland.org/wp-content/uploads/2024/03/Frame-119-1.png
END:VEVENT
BEGIN:VEVENT
DTSTART;TZID=UTC:20240310T083000
DTEND;TZID=UTC:20240310T094500
DTSTAMP:20260421T230352
CREATED:20240204T180452Z
LAST-MODIFIED:20240312T142129Z
UID:3943-1710059400-1710063900@www.gharvestisland.org
SUMMARY:Business Enterprise Services..
DESCRIPTION:
URL:https://www.gharvestisland.org/event/business-enterprise-services-2/
ATTACH;FMTTYPE=image/png:https://www.gharvestisland.org/wp-content/uploads/2024/02/Frame-100.png
END:VEVENT
BEGIN:VEVENT
DTSTART;TZID=UTC:20240310T100000
DTEND;TZID=UTC:20240310T233000
DTSTAMP:20260421T230352
CREATED:20240226T134731Z
LAST-MODIFIED:20240312T141925Z
UID:4157-1710064800-1710113400@www.gharvestisland.org
SUMMARY:5 Super Sunday
DESCRIPTION:
URL:https://www.gharvestisland.org/event/5-super-sunday-2/
ATTACH;FMTTYPE=image/png:https://www.gharvestisland.org/wp-content/uploads/2024/02/Untitled-1.png
END:VEVENT
BEGIN:VEVENT
DTSTART;TZID=UTC:20240317T080000
DTEND;TZID=UTC:20240317T170000
DTSTAMP:20260421T230352
CREATED:20240312T155327Z
LAST-MODIFIED:20240312T155327Z
UID:4248-1710662400-1710694800@www.gharvestisland.org
SUMMARY:5 Super Sunday
DESCRIPTION:
URL:https://www.gharvestisland.org/event/5-super-sunday-4/
ATTACH;FMTTYPE=image/jpeg:https://www.gharvestisland.org/wp-content/uploads/2024/02/WhatsApp-Image-2024-03-07-at-11.40.29_402adc78.jpg
END:VEVENT
BEGIN:VEVENT
DTSTART;TZID=UTC:20240317T083000
DTEND;TZID=UTC:20240317T094500
DTSTAMP:20260421T230352
CREATED:20240312T161139Z
LAST-MODIFIED:20240312T161510Z
UID:4252-1710664200-1710668700@www.gharvestisland.org
SUMMARY:Business Enterprise Service
DESCRIPTION:
URL:https://www.gharvestisland.org/event/business-enterprise-service/
ATTACH;FMTTYPE=image/png:https://www.gharvestisland.org/wp-content/uploads/2024/02/Frame-100-1.png
END:VEVENT
BEGIN:VEVENT
DTSTART;TZID=UTC:20240320T180000
DTEND;TZID=UTC:20240320T203000
DTSTAMP:20260421T230352
CREATED:20240319T161606Z
LAST-MODIFIED:20240319T161606Z
UID:4276-1710957600-1710966600@www.gharvestisland.org
SUMMARY:Mid-Week Service
DESCRIPTION:
URL:https://www.gharvestisland.org/event/mid-week-service/
CATEGORIES:Mid Week Service
ATTACH;FMTTYPE=image/png:https://www.gharvestisland.org/wp-content/uploads/2024/03/Frame-119-1-1.png
END:VEVENT
BEGIN:VEVENT
DTSTART;TZID=UTC:20240324T083000
DTEND;TZID=UTC:20240324T094500
DTSTAMP:20260421T230352
CREATED:20240319T161103Z
LAST-MODIFIED:20240319T161103Z
UID:4274-1711269000-1711273500@www.gharvestisland.org
SUMMARY:Business Enterprise Service
DESCRIPTION:
URL:https://www.gharvestisland.org/event/business-enterprise-service-2/
ATTACH;FMTTYPE=image/png:https://www.gharvestisland.org/wp-content/uploads/2024/03/Frame-100.png
END:VEVENT
BEGIN:VEVENT
DTSTART;TZID=UTC:20240324T100000
DTEND;TZID=UTC:20240324T120000
DTSTAMP:20260421T230352
CREATED:20240319T160534Z
LAST-MODIFIED:20240319T164223Z
UID:4270-1711274400-1711281600@www.gharvestisland.org
SUMMARY:5 Super Sunday (Celebration Service).
DESCRIPTION:
URL:https://www.gharvestisland.org/event/5-super-sunday-celebration-service/
ATTACH;FMTTYPE=image/jpeg:https://www.gharvestisland.org/wp-content/uploads/2024/03/WhatsApp-Image-2024-03-15-at-05.39.59_4fd7d0aa.jpg
END:VEVENT
BEGIN:VEVENT
DTSTART;TZID=UTC:20240327T183000
DTEND;TZID=UTC:20240327T203000
DTSTAMP:20260421T230352
CREATED:20240321T212846Z
LAST-MODIFIED:20240321T212846Z
UID:4279-1711564200-1711571400@www.gharvestisland.org
SUMMARY:Mid-Week Service
DESCRIPTION:
URL:https://www.gharvestisland.org/event/mid-week-service-2/
CATEGORIES:Mid Week Service
ATTACH;FMTTYPE=image/png:https://www.gharvestisland.org/wp-content/uploads/2024/03/Frame-119-1-1.png
END:VEVENT
BEGIN:VEVENT
DTSTART;TZID=UTC:20240331T083000
DTEND;TZID=UTC:20240331T094500
DTSTAMP:20260421T230352
CREATED:20240324T184939Z
LAST-MODIFIED:20240324T185740Z
UID:4286-1711873800-1711878300@www.gharvestisland.org
SUMMARY:Business Enterprise Service
DESCRIPTION:
URL:https://www.gharvestisland.org/event/business-enterprise-service-3/
ATTACH;FMTTYPE=image/png:https://www.gharvestisland.org/wp-content/uploads/2024/03/Frame-100.png
END:VEVENT
BEGIN:VEVENT
DTSTART;TZID=UTC:20240331T100000
DTEND;TZID=UTC:20240331T120000
DTSTAMP:20260421T230352
CREATED:20240324T190454Z
LAST-MODIFIED:20240324T191248Z
UID:4285-1711879200-1711886400@www.gharvestisland.org
SUMMARY:5 Super Sunday.
DESCRIPTION:
URL:https://www.gharvestisland.org/event/5-super-sunday-5/
ATTACH;FMTTYPE=image/png:https://www.gharvestisland.org/wp-content/uploads/2024/03/Frame-121-2.png
END:VEVENT
END:VCALENDAR