BEGIN:VCALENDAR
VERSION:2.0
PRODID:-//Global Harvest, Island Church - ECPv6.7.0//NONSGML v1.0//EN
CALSCALE:GREGORIAN
METHOD:PUBLISH
X-ORIGINAL-URL:https://www.gharvestisland.org
X-WR-CALDESC:Events for Global Harvest, Island Church
REFRESH-INTERVAL;VALUE=DURATION:PT1H
X-Robots-Tag:noindex
X-PUBLISHED-TTL:PT1H
BEGIN:VTIMEZONE
TZID:UTC
BEGIN:STANDARD
TZOFFSETFROM:+0000
TZOFFSETTO:+0000
TZNAME:UTC
DTSTART:20230101T000000
END:STANDARD
END:VTIMEZONE
BEGIN:VEVENT
DTSTART;TZID=UTC:20230901T180000
DTEND;TZID=UTC:20230903T190000
DTSTAMP:20260422T111148
CREATED:20230927T090518Z
LAST-MODIFIED:20230927T090518Z
UID:2221-1693591200-1693767600@www.gharvestisland.org
SUMMARY:3 Days of glory/Fasting & Prayers
DESCRIPTION:
URL:https://www.gharvestisland.org/event/3-days-of-glory-fasting-prayers-2/
LOCATION:Virtual\, https://us02web.zoom.us/j/7456397250\, Zoom
CATEGORIES:Days Of Grace,Prayer
END:VEVENT
BEGIN:VEVENT
DTSTART;TZID=UTC:20230903T090000
DTEND;TZID=UTC:20230903T110000
DTSTAMP:20260422T111148
CREATED:20230927T090519Z
LAST-MODIFIED:20230927T090519Z
UID:2222-1693731600-1693738800@www.gharvestisland.org
SUMMARY:Thanksgiving & Praise(TAP)
DESCRIPTION:
URL:https://www.gharvestisland.org/event/thanksgiving-praisetap-2/
LOCATION:Global Harvest Church Island\, Four Points by Sheraton Lagos Plot 9/10 Block 2 Oniru Chieftaincy Estate\, Victoria Island\, Lagos\, 106104\, Nigeria
CATEGORIES:Sunday Worship,Thanksgiving & Praise(TAP)
END:VEVENT
BEGIN:VEVENT
DTSTART;TZID=UTC:20230909T070000
DTEND;TZID=UTC:20230909T090000
DTSTAMP:20260422T111148
CREATED:20230927T090529Z
LAST-MODIFIED:20230927T090529Z
UID:2223-1694242800-1694250000@www.gharvestisland.org
SUMMARY:Hour of Grace
DESCRIPTION:
URL:https://www.gharvestisland.org/event/hour-of-grace-4/
LOCATION:Virtual\, https://us02web.zoom.us/j/7456397250\, Zoom
CATEGORIES:Hour of Grace
END:VEVENT
BEGIN:VEVENT
DTSTART;TZID=UTC:20230910T090000
DTEND;TZID=UTC:20230910T110000
DTSTAMP:20260422T111148
CREATED:20230927T090530Z
LAST-MODIFIED:20230927T090530Z
UID:2224-1694336400-1694343600@www.gharvestisland.org
SUMMARY:Super Sunday
DESCRIPTION:
URL:https://www.gharvestisland.org/event/super-sunday/
LOCATION:Global Harvest Church Island\, Four Points by Sheraton Lagos Plot 9/10 Block 2 Oniru Chieftaincy Estate\, Victoria Island\, Lagos\, 106104\, Nigeria
CATEGORIES:Sunday Worship
END:VEVENT
BEGIN:VEVENT
DTSTART;TZID=UTC:20230917T090000
DTEND;TZID=UTC:20230917T110000
DTSTAMP:20260422T111148
CREATED:20230927T090530Z
LAST-MODIFIED:20230927T090530Z
UID:2225-1694941200-1694948400@www.gharvestisland.org
SUMMARY:Super Sunday
DESCRIPTION:
URL:https://www.gharvestisland.org/event/super-sunday-2/
LOCATION:Global Harvest Church Island\, Four Points by Sheraton Lagos Plot 9/10 Block 2 Oniru Chieftaincy Estate\, Victoria Island\, Lagos\, 106104\, Nigeria
CATEGORIES:Sunday Worship
END:VEVENT
BEGIN:VEVENT
DTSTART;TZID=UTC:20230924T090000
DTEND;TZID=UTC:20230924T110000
DTSTAMP:20260422T111148
CREATED:20230927T090530Z
LAST-MODIFIED:20230927T090530Z
UID:2226-1695546000-1695553200@www.gharvestisland.org
SUMMARY:Super Sunday - Intense Special Worship Service
DESCRIPTION:
URL:https://www.gharvestisland.org/event/super-sunday-intense-special-worship-service/
LOCATION:Global Harvest Church Island\, Four Points by Sheraton Lagos Plot 9/10 Block 2 Oniru Chieftaincy Estate\, Victoria Island\, Lagos\, 106104\, Nigeria
CATEGORIES:Intense,Sunday Worship
END:VEVENT
BEGIN:VEVENT
DTSTART;TZID=UTC:20230927T090000
DTEND;TZID=UTC:20231001T140000
DTSTAMP:20260422T111148
CREATED:20230927T090530Z
LAST-MODIFIED:20230927T213051Z
UID:2227-1695805200-1696168800@www.gharvestisland.org
SUMMARY:Harvest Fire Convention - GHQ Ibadan
DESCRIPTION:
URL:https://www.gharvestisland.org/event/harvest-fire-convention-ghq-ibadan/
LOCATION:Global Harvest Church Island\, Four Points by Sheraton Lagos Plot 9/10 Block 2 Oniru Chieftaincy Estate\, Victoria Island\, Lagos\, 106104\, Nigeria
CATEGORIES:Retreat
ATTACH;FMTTYPE=image/jpeg:https://www.gharvestisland.org/wp-content/uploads/2023/09/HoF-GH.jpeg
END:VEVENT
BEGIN:VEVENT
DTSTART;TZID=UTC:20230930T070000
DTEND;TZID=UTC:20230930T090000
DTSTAMP:20260422T111148
CREATED:20230927T090544Z
LAST-MODIFIED:20230928T072248Z
UID:2228-1696057200-1696064400@www.gharvestisland.org
SUMMARY:Hour of Grace
DESCRIPTION:
URL:https://www.gharvestisland.org/event/hour-of-grace-5/
LOCATION:Global Harvest Church Island\, Four Points by Sheraton Lagos Plot 9/10 Block 2 Oniru Chieftaincy Estate\, Victoria Island\, Lagos\, 106104\, Nigeria
CATEGORIES:Hour of Grace
ATTACH;FMTTYPE=image/jpeg:https://www.gharvestisland.org/wp-content/uploads/2023/09/Hour-of-Grace2.jpeg
END:VEVENT
END:VCALENDAR