BEGIN:VCALENDAR
VERSION:2.0
PRODID:-//Global Harvest, Island Church - ECPv6.7.0//NONSGML v1.0//EN
CALSCALE:GREGORIAN
METHOD:PUBLISH
X-ORIGINAL-URL:https://www.gharvestisland.org
X-WR-CALDESC:Events for Global Harvest, Island Church
REFRESH-INTERVAL;VALUE=DURATION:PT1H
X-Robots-Tag:noindex
X-PUBLISHED-TTL:PT1H
BEGIN:VTIMEZONE
TZID:UTC
BEGIN:STANDARD
TZOFFSETFROM:+0000
TZOFFSETTO:+0000
TZNAME:UTC
DTSTART:20260101T000000
END:STANDARD
END:VTIMEZONE
BEGIN:VEVENT
DTSTART;TZID=UTC:20260314T080000
DTEND;TZID=UTC:20260314T120000
DTSTAMP:20260422T055450
CREATED:20260412T103155Z
LAST-MODIFIED:20260420T112521Z
UID:5861-1773475200-1773489600@www.gharvestisland.org
SUMMARY:Evangelism – Mar 14
DESCRIPTION:Outreach
URL:https://www.gharvestisland.org/event/evangelism-mar-14/
CATEGORIES:Evangelism
ATTACH;FMTTYPE=image/png:https://www.gharvestisland.org/wp-content/uploads/2025/01/leadership-training-and-envagelism.png
END:VEVENT
END:VCALENDAR