BEGIN:VCALENDAR
VERSION:2.0
PRODID:-//Global Harvest, Island Church - ECPv6.7.0//NONSGML v1.0//EN
CALSCALE:GREGORIAN
METHOD:PUBLISH
X-WR-CALNAME:Global Harvest, Island Church
X-ORIGINAL-URL:https://www.gharvestisland.org
X-WR-CALDESC:Events for Global Harvest, Island Church
REFRESH-INTERVAL;VALUE=DURATION:PT1H
X-Robots-Tag:noindex
X-PUBLISHED-TTL:PT1H
BEGIN:VTIMEZONE
TZID:UTC
BEGIN:STANDARD
TZOFFSETFROM:+0000
TZOFFSETTO:+0000
TZNAME:UTC
DTSTART:20240101T000000
END:STANDARD
END:VTIMEZONE
BEGIN:VEVENT
DTSTART;TZID=UTC:20240922T083000
DTEND;TZID=UTC:20240922T100000
DTSTAMP:20260421T150627
CREATED:20240616T101859Z
LAST-MODIFIED:20240616T101859Z
UID:4625-1726993800-1726999200@www.gharvestisland.org
SUMMARY:Business Enterprise Service
DESCRIPTION:
URL:https://www.gharvestisland.org/event/business-enterprise-service-24/
ATTACH;FMTTYPE=image/png:https://www.gharvestisland.org/wp-content/uploads/2024/03/Frame-100.png
END:VEVENT
BEGIN:VEVENT
DTSTART;TZID=UTC:20240922T100000
DTEND;TZID=UTC:20240922T120000
DTSTAMP:20260421T150627
CREATED:20240616T102149Z
LAST-MODIFIED:20240922T112054Z
UID:4627-1726999200-1727006400@www.gharvestisland.org
SUMMARY:Super Sunday
DESCRIPTION:
URL:https://www.gharvestisland.org/event/super-sunday-4/
ATTACH;FMTTYPE=image/png:https://www.gharvestisland.org/wp-content/uploads/2024/07/ghs-homepage.png
END:VEVENT
END:VCALENDAR