BEGIN:VCALENDAR
VERSION:2.0
PRODID:-//Global Harvest, Island Church - ECPv6.7.0//NONSGML v1.0//EN
CALSCALE:GREGORIAN
METHOD:PUBLISH
X-WR-CALNAME:Global Harvest, Island Church
X-ORIGINAL-URL:https://www.gharvestisland.org
X-WR-CALDESC:Events for Global Harvest, Island Church
REFRESH-INTERVAL;VALUE=DURATION:PT1H
X-Robots-Tag:noindex
X-PUBLISHED-TTL:PT1H
BEGIN:VTIMEZONE
TZID:UTC
BEGIN:STANDARD
TZOFFSETFROM:+0000
TZOFFSETTO:+0000
TZNAME:UTC
DTSTART:20240101T000000
END:STANDARD
END:VTIMEZONE
BEGIN:VEVENT
DTSTART;TZID=UTC:20240915T100000
DTEND;TZID=UTC:20240915T120000
DTSTAMP:20260421T150621
CREATED:20240616T101115Z
LAST-MODIFIED:20240908T102158Z
UID:4621-1726394400-1726401600@www.gharvestisland.org
SUMMARY:Super Sunday/ Family Conference
DESCRIPTION:
URL:https://www.gharvestisland.org/event/super-sunday-family-conference/
ATTACH;FMTTYPE=image/jpeg:https://www.gharvestisland.org/wp-content/uploads/2024/06/IMG-20240908-WA0007.jpg
END:VEVENT
END:VCALENDAR