BEGIN:VCALENDAR
VERSION:2.0
PRODID:-//Global Harvest, Island Church - ECPv6.7.0//NONSGML v1.0//EN
CALSCALE:GREGORIAN
METHOD:PUBLISH
X-WR-CALNAME:Global Harvest, Island Church
X-ORIGINAL-URL:https://www.gharvestisland.org
X-WR-CALDESC:Events for Global Harvest, Island Church
REFRESH-INTERVAL;VALUE=DURATION:PT1H
X-Robots-Tag:noindex
X-PUBLISHED-TTL:PT1H
BEGIN:VTIMEZONE
TZID:UTC
BEGIN:STANDARD
TZOFFSETFROM:+0000
TZOFFSETTO:+0000
TZNAME:UTC
DTSTART:20240101T000000
END:STANDARD
END:VTIMEZONE
BEGIN:VEVENT
DTSTART;TZID=UTC:20240901T083000
DTEND;TZID=UTC:20240901T100000
DTSTAMP:20260421T080231
CREATED:20240527T145632Z
LAST-MODIFIED:20240527T145632Z
UID:4564-1725179400-1725184800@www.gharvestisland.org
SUMMARY:Business Enterprise Service
DESCRIPTION:
URL:https://www.gharvestisland.org/event/business-enterprise-service-21/
ATTACH;FMTTYPE=image/png:https://www.gharvestisland.org/wp-content/uploads/2024/03/Frame-100.png
END:VEVENT
BEGIN:VEVENT
DTSTART;TZID=UTC:20240901T100000
DTEND;TZID=UTC:20240901T120000
DTSTAMP:20260421T080231
CREATED:20240527T145846Z
LAST-MODIFIED:20240527T145846Z
UID:4566-1725184800-1725192000@www.gharvestisland.org
SUMMARY:TAP
DESCRIPTION:
URL:https://www.gharvestisland.org/event/tap-3/
ATTACH;FMTTYPE=image/jpeg:https://www.gharvestisland.org/wp-content/uploads/2023/09/TAP.jpg
END:VEVENT
BEGIN:VEVENT
DTSTART;TZID=UTC:20240901T180000
DTEND;TZID=UTC:20240903T190000
DTSTAMP:20260421T080231
CREATED:20240527T145502Z
LAST-MODIFIED:20240527T145502Z
UID:4562-1725213600-1725390000@www.gharvestisland.org
SUMMARY:3DG/Fasting&Prayers
DESCRIPTION:
URL:https://www.gharvestisland.org/event/3dg-fastingprayers-2/
ATTACH;FMTTYPE=image/jpeg:https://www.gharvestisland.org/wp-content/uploads/2024/02/IMG-20240226-WA0010.jpg
END:VEVENT
END:VCALENDAR