BEGIN:VCALENDAR
VERSION:2.0
PRODID:-//Global Harvest, Island Church - ECPv6.7.0//NONSGML v1.0//EN
CALSCALE:GREGORIAN
METHOD:PUBLISH
X-WR-CALNAME:Global Harvest, Island Church
X-ORIGINAL-URL:https://www.gharvestisland.org
X-WR-CALDESC:Events for Global Harvest, Island Church
REFRESH-INTERVAL;VALUE=DURATION:PT1H
X-Robots-Tag:noindex
X-PUBLISHED-TTL:PT1H
BEGIN:VTIMEZONE
TZID:UTC
BEGIN:STANDARD
TZOFFSETFROM:+0000
TZOFFSETTO:+0000
TZNAME:UTC
DTSTART:20240101T000000
END:STANDARD
END:VTIMEZONE
BEGIN:VEVENT
DTSTART;TZID=UTC:20240801T100000
DTEND;TZID=UTC:20240804T140000
DTSTAMP:20260421T115116
CREATED:20240527T112148Z
LAST-MODIFIED:20240731T050919Z
UID:4528-1722506400-1722780000@www.gharvestisland.org
SUMMARY:Teens Retreat
DESCRIPTION:
URL:https://www.gharvestisland.org/event/teens-retreat-2/
ATTACH;FMTTYPE=image/png:https://www.gharvestisland.org/wp-content/uploads/2024/05/Frame-152.png
END:VEVENT
BEGIN:VEVENT
DTSTART;TZID=UTC:20240801T180000
DTEND;TZID=UTC:20240803T200000
DTSTAMP:20260421T115116
CREATED:20240527T111809Z
LAST-MODIFIED:20240527T111809Z
UID:4526-1722535200-1722715200@www.gharvestisland.org
SUMMARY:3DG/Fasting&Prayers
DESCRIPTION:
URL:https://www.gharvestisland.org/event/3dg-fastingprayers/
ATTACH;FMTTYPE=image/jpeg:https://www.gharvestisland.org/wp-content/uploads/2023/09/3-Days-of-Glory-June-1-3-2023-e1697793163783.jpeg
END:VEVENT
END:VCALENDAR