BEGIN:VCALENDAR
VERSION:2.0
PRODID:-//Global Harvest, Island Church - ECPv6.7.0//NONSGML v1.0//EN
CALSCALE:GREGORIAN
METHOD:PUBLISH
X-ORIGINAL-URL:https://www.gharvestisland.org
X-WR-CALDESC:Events for Global Harvest, Island Church
REFRESH-INTERVAL;VALUE=DURATION:PT1H
X-Robots-Tag:noindex
X-PUBLISHED-TTL:PT1H
BEGIN:VTIMEZONE
TZID:UTC
BEGIN:STANDARD
TZOFFSETFROM:+0000
TZOFFSETTO:+0000
TZNAME:UTC
DTSTART:20240101T000000
END:STANDARD
END:VTIMEZONE
BEGIN:VEVENT
DTSTART;TZID=UTC:20240721T083000
DTEND;TZID=UTC:20240721T100000
DTSTAMP:20260421T160940
CREATED:20240719T093204Z
LAST-MODIFIED:20240719T093204Z
UID:4791-1721550600-1721556000@www.gharvestisland.org
SUMMARY:Business Enterprise Service
DESCRIPTION:
URL:https://www.gharvestisland.org/event/business-enterprise-service-36/
ATTACH;FMTTYPE=image/jpeg:https://www.gharvestisland.org/wp-content/uploads/2024/02/IMG-20240226-WA0016-1.jpg
END:VEVENT
BEGIN:VEVENT
DTSTART;TZID=UTC:20240721T100000
DTEND;TZID=UTC:20240721T120000
DTSTAMP:20260421T160940
CREATED:20240719T093446Z
LAST-MODIFIED:20240719T093446Z
UID:4793-1721556000-1721563200@www.gharvestisland.org
SUMMARY:Celebration Service
DESCRIPTION:
URL:https://www.gharvestisland.org/event/celebration-service-23/
ATTACH;FMTTYPE=image/jpeg:https://www.gharvestisland.org/wp-content/uploads/2023/09/Celebration-Service-e1698912288904.jpg
END:VEVENT
END:VCALENDAR