BEGIN:VCALENDAR
VERSION:2.0
PRODID:-//Global Harvest, Island Church - ECPv6.7.0//NONSGML v1.0//EN
CALSCALE:GREGORIAN
METHOD:PUBLISH
X-ORIGINAL-URL:https://www.gharvestisland.org
X-WR-CALDESC:Events for Global Harvest, Island Church
REFRESH-INTERVAL;VALUE=DURATION:PT1H
X-Robots-Tag:noindex
X-PUBLISHED-TTL:PT1H
BEGIN:VTIMEZONE
TZID:UTC
BEGIN:STANDARD
TZOFFSETFROM:+0000
TZOFFSETTO:+0000
TZNAME:UTC
DTSTART:20240101T000000
END:STANDARD
END:VTIMEZONE
BEGIN:VEVENT
DTSTART;TZID=UTC:20240630T083000
DTEND;TZID=UTC:20240630T100000
DTSTAMP:20260421T173055
CREATED:20240424T084855Z
LAST-MODIFIED:20240424T084855Z
UID:4466-1719736200-1719741600@www.gharvestisland.org
SUMMARY:Business Enterprise Service
DESCRIPTION:
URL:https://www.gharvestisland.org/event/business-enterprise-service-15/
ATTACH;FMTTYPE=image/png:https://www.gharvestisland.org/wp-content/uploads/2024/03/Frame-100.png
END:VEVENT
BEGIN:VEVENT
DTSTART;TZID=UTC:20240630T100000
DTEND;TZID=UTC:20240630T120000
DTSTAMP:20260421T173055
CREATED:20240424T085255Z
LAST-MODIFIED:20240630T084433Z
UID:4468-1719741600-1719748800@www.gharvestisland.org
SUMMARY:Faith Conference Service/Intense Special Service
DESCRIPTION:
URL:https://www.gharvestisland.org/event/faith-conference-service-intense-special-service/
ATTACH;FMTTYPE=image/jpeg:https://www.gharvestisland.org/wp-content/uploads/2024/04/faith-conference-screen.jpg
END:VEVENT
END:VCALENDAR