BEGIN:VCALENDAR
VERSION:2.0
PRODID:-//Global Harvest, Island Church - ECPv6.7.0//NONSGML v1.0//EN
CALSCALE:GREGORIAN
METHOD:PUBLISH
X-ORIGINAL-URL:https://www.gharvestisland.org
X-WR-CALDESC:Events for Global Harvest, Island Church
REFRESH-INTERVAL;VALUE=DURATION:PT1H
X-Robots-Tag:noindex
X-PUBLISHED-TTL:PT1H
BEGIN:VTIMEZONE
TZID:UTC
BEGIN:STANDARD
TZOFFSETFROM:+0000
TZOFFSETTO:+0000
TZNAME:UTC
DTSTART:20240101T000000
END:STANDARD
END:VTIMEZONE
BEGIN:VEVENT
DTSTART;TZID=UTC:20240629T100000
DTEND;TZID=UTC:20240629T140000
DTSTAMP:20260421T173056
CREATED:20240424T084329Z
LAST-MODIFIED:20240615T132855Z
UID:4464-1719655200-1719669600@www.gharvestisland.org
SUMMARY:Faith Conference.
DESCRIPTION:Click to Register
URL:https://www.gharvestisland.org/event/faith-conference-4/
ATTACH;FMTTYPE=image/jpeg:https://www.gharvestisland.org/wp-content/uploads/2024/04/WhatsApp-Image-2024-06-11-at-09.56.08_11985fbe.jpg
END:VEVENT
END:VCALENDAR