BEGIN:VCALENDAR
VERSION:2.0
PRODID:-//Global Harvest, Island Church - ECPv6.7.0//NONSGML v1.0//EN
CALSCALE:GREGORIAN
METHOD:PUBLISH
X-ORIGINAL-URL:https://www.gharvestisland.org
X-WR-CALDESC:Events for Global Harvest, Island Church
REFRESH-INTERVAL;VALUE=DURATION:PT1H
X-Robots-Tag:noindex
X-PUBLISHED-TTL:PT1H
BEGIN:VTIMEZONE
TZID:UTC
BEGIN:STANDARD
TZOFFSETFROM:+0000
TZOFFSETTO:+0000
TZNAME:UTC
DTSTART:20240101T000000
END:STANDARD
END:VTIMEZONE
BEGIN:VEVENT
DTSTART;TZID=UTC:20240609T083000
DTEND;TZID=UTC:20240609T100000
DTSTAMP:20260421T171346
CREATED:20240423T161751Z
LAST-MODIFIED:20240423T161751Z
UID:4422-1717921800-1717927200@www.gharvestisland.org
SUMMARY:Business Enterprise Service
DESCRIPTION: 
URL:https://www.gharvestisland.org/event/business-enterprise-service-12/
ATTACH;FMTTYPE=image/png:https://www.gharvestisland.org/wp-content/uploads/2024/03/Frame-100.png
END:VEVENT
BEGIN:VEVENT
DTSTART;TZID=UTC:20240609T100000
DTEND;TZID=UTC:20240609T120000
DTSTAMP:20260421T171346
CREATED:20240423T162120Z
LAST-MODIFIED:20240423T162120Z
UID:4425-1717927200-1717934400@www.gharvestisland.org
SUMMARY:Celebration Service
DESCRIPTION:
URL:https://www.gharvestisland.org/event/celebration-service-14/
ATTACH;FMTTYPE=image/jpeg:https://www.gharvestisland.org/wp-content/uploads/2023/09/Celebration-Service-e1698912288904.jpg
END:VEVENT
END:VCALENDAR