BEGIN:VCALENDAR
VERSION:2.0
PRODID:-//Global Harvest, Island Church - ECPv6.7.0//NONSGML v1.0//EN
CALSCALE:GREGORIAN
METHOD:PUBLISH
X-ORIGINAL-URL:https://www.gharvestisland.org
X-WR-CALDESC:Events for Global Harvest, Island Church
REFRESH-INTERVAL;VALUE=DURATION:PT1H
X-Robots-Tag:noindex
X-PUBLISHED-TTL:PT1H
BEGIN:VTIMEZONE
TZID:UTC
BEGIN:STANDARD
TZOFFSETFROM:+0000
TZOFFSETTO:+0000
TZNAME:UTC
DTSTART:20240101T000000
END:STANDARD
END:VTIMEZONE
BEGIN:VEVENT
DTSTART;TZID=UTC:20240601T180000
DTEND;TZID=UTC:20240603T190000
DTSTAMP:20260421T173057
CREATED:20240423T155432Z
LAST-MODIFIED:20240531T192655Z
UID:4412-1717264800-1717441200@www.gharvestisland.org
SUMMARY:3DG/Fasting and Prayers
DESCRIPTION:
URL:https://www.gharvestisland.org/event/3dg-fasting-and-prayers/
ATTACH;FMTTYPE=image/png:https://www.gharvestisland.org/wp-content/uploads/2024/04/3-days-of-Glory-Banner.png
END:VEVENT
BEGIN:VEVENT
DTSTART;TZID=UTC:20240602T083000
DTEND;TZID=UTC:20240602T100000
DTSTAMP:20260421T173057
CREATED:20240423T155827Z
LAST-MODIFIED:20240423T155827Z
UID:4414-1717317000-1717322400@www.gharvestisland.org
SUMMARY:Business Enterprise Service
DESCRIPTION:
URL:https://www.gharvestisland.org/event/business-enterprise-service-11/
ATTACH;FMTTYPE=image/png:https://www.gharvestisland.org/wp-content/uploads/2024/03/Frame-100.png
END:VEVENT
BEGIN:VEVENT
DTSTART;TZID=UTC:20240602T100000
DTEND;TZID=UTC:20240602T120000
DTSTAMP:20260421T173057
CREATED:20240423T160446Z
LAST-MODIFIED:20240531T191750Z
UID:4416-1717322400-1717329600@www.gharvestisland.org
SUMMARY:TAP( With special broadcast with rev.)
DESCRIPTION:
URL:https://www.gharvestisland.org/event/tap-with-special-broadcast-with-rev-2/
ATTACH;FMTTYPE=image/png:https://www.gharvestisland.org/wp-content/uploads/2024/04/TAP-CCS-BANNER.png
END:VEVENT
END:VCALENDAR