BEGIN:VCALENDAR
VERSION:2.0
PRODID:-//Global Harvest, Island Church - ECPv6.7.0//NONSGML v1.0//EN
CALSCALE:GREGORIAN
METHOD:PUBLISH
X-WR-CALNAME:Global Harvest, Island Church
X-ORIGINAL-URL:https://www.gharvestisland.org
X-WR-CALDESC:Events for Global Harvest, Island Church
REFRESH-INTERVAL;VALUE=DURATION:PT1H
X-Robots-Tag:noindex
X-PUBLISHED-TTL:PT1H
BEGIN:VTIMEZONE
TZID:UTC
BEGIN:STANDARD
TZOFFSETFROM:+0000
TZOFFSETTO:+0000
TZNAME:UTC
DTSTART:20240101T000000
END:STANDARD
END:VTIMEZONE
BEGIN:VEVENT
DTSTART;TZID=UTC:20240601T180000
DTEND;TZID=UTC:20240603T190000
DTSTAMP:20260421T172246
CREATED:20240423T155432Z
LAST-MODIFIED:20240531T192655Z
UID:4412-1717264800-1717441200@www.gharvestisland.org
SUMMARY:3DG/Fasting and Prayers
DESCRIPTION:
URL:https://www.gharvestisland.org/event/3dg-fasting-and-prayers/
ATTACH;FMTTYPE=image/png:https://www.gharvestisland.org/wp-content/uploads/2024/04/3-days-of-Glory-Banner.png
END:VEVENT
END:VCALENDAR