BEGIN:VCALENDAR
VERSION:2.0
PRODID:-//Global Harvest, Island Church - ECPv6.7.0//NONSGML v1.0//EN
CALSCALE:GREGORIAN
METHOD:PUBLISH
X-WR-CALNAME:Global Harvest, Island Church
X-ORIGINAL-URL:https://www.gharvestisland.org
X-WR-CALDESC:Events for Global Harvest, Island Church
REFRESH-INTERVAL;VALUE=DURATION:PT1H
X-Robots-Tag:noindex
X-PUBLISHED-TTL:PT1H
BEGIN:VTIMEZONE
TZID:UTC
BEGIN:STANDARD
TZOFFSETFROM:+0000
TZOFFSETTO:+0000
TZNAME:UTC
DTSTART:20240101T000000
END:STANDARD
END:VTIMEZONE
BEGIN:VEVENT
DTSTART;TZID=UTC:20240501T180000
DTEND;TZID=UTC:20240503T190000
DTSTAMP:20260421T200009
CREATED:20240409T124537Z
LAST-MODIFIED:20240409T130230Z
UID:4340-1714586400-1714762800@www.gharvestisland.org
SUMMARY:3DG/Fasting & Prayers
DESCRIPTION:
URL:https://www.gharvestisland.org/event/3dg-fasting-prayers-3/
ATTACH;FMTTYPE=image/jpeg:https://www.gharvestisland.org/wp-content/uploads/2023/09/3-Days-of-Glory-June-1-3-2023-e1697793163783.jpeg
END:VEVENT
END:VCALENDAR