BEGIN:VCALENDAR
VERSION:2.0
PRODID:-//Global Harvest, Island Church - ECPv6.7.0//NONSGML v1.0//EN
CALSCALE:GREGORIAN
METHOD:PUBLISH
X-ORIGINAL-URL:https://www.gharvestisland.org
X-WR-CALDESC:Events for Global Harvest, Island Church
REFRESH-INTERVAL;VALUE=DURATION:PT1H
X-Robots-Tag:noindex
X-PUBLISHED-TTL:PT1H
BEGIN:VTIMEZONE
TZID:UTC
BEGIN:STANDARD
TZOFFSETFROM:+0000
TZOFFSETTO:+0000
TZNAME:UTC
DTSTART:20240101T000000
END:STANDARD
END:VTIMEZONE
BEGIN:VEVENT
DTSTART;TZID=UTC:20240407T083000
DTEND;TZID=UTC:20240407T094500
DTSTAMP:20260421T230351
CREATED:20240403T082608Z
LAST-MODIFIED:20240403T082608Z
UID:4297-1712478600-1712483100@www.gharvestisland.org
SUMMARY:Business Enterprise Service
DESCRIPTION:
URL:https://www.gharvestisland.org/event/business-enterprise-service-4/
ATTACH;FMTTYPE=image/png:https://www.gharvestisland.org/wp-content/uploads/2024/03/Frame-100.png
END:VEVENT
END:VCALENDAR