BEGIN:VCALENDAR
VERSION:2.0
PRODID:-//Global Harvest, Island Church - ECPv6.7.0//NONSGML v1.0//EN
CALSCALE:GREGORIAN
METHOD:PUBLISH
X-ORIGINAL-URL:https://www.gharvestisland.org
X-WR-CALDESC:Events for Global Harvest, Island Church
REFRESH-INTERVAL;VALUE=DURATION:PT1H
X-Robots-Tag:noindex
X-PUBLISHED-TTL:PT1H
BEGIN:VTIMEZONE
TZID:UTC
BEGIN:STANDARD
TZOFFSETFROM:+0000
TZOFFSETTO:+0000
TZNAME:UTC
DTSTART:20240101T000000
END:STANDARD
END:VTIMEZONE
BEGIN:VEVENT
DTSTART;TZID=UTC:20240324T083000
DTEND;TZID=UTC:20240324T094500
DTSTAMP:20260422T005744
CREATED:20240319T161103Z
LAST-MODIFIED:20240319T161103Z
UID:4274-1711269000-1711273500@www.gharvestisland.org
SUMMARY:Business Enterprise Service
DESCRIPTION:
URL:https://www.gharvestisland.org/event/business-enterprise-service-2/
ATTACH;FMTTYPE=image/png:https://www.gharvestisland.org/wp-content/uploads/2024/03/Frame-100.png
END:VEVENT
BEGIN:VEVENT
DTSTART;TZID=UTC:20240324T100000
DTEND;TZID=UTC:20240324T120000
DTSTAMP:20260422T005744
CREATED:20240319T160534Z
LAST-MODIFIED:20240319T164223Z
UID:4270-1711274400-1711281600@www.gharvestisland.org
SUMMARY:5 Super Sunday (Celebration Service).
DESCRIPTION:
URL:https://www.gharvestisland.org/event/5-super-sunday-celebration-service/
ATTACH;FMTTYPE=image/jpeg:https://www.gharvestisland.org/wp-content/uploads/2024/03/WhatsApp-Image-2024-03-15-at-05.39.59_4fd7d0aa.jpg
END:VEVENT
END:VCALENDAR