BEGIN:VCALENDAR
VERSION:2.0
PRODID:-//Global Harvest, Island Church - ECPv6.7.0//NONSGML v1.0//EN
CALSCALE:GREGORIAN
METHOD:PUBLISH
X-WR-CALNAME:Global Harvest, Island Church
X-ORIGINAL-URL:https://www.gharvestisland.org
X-WR-CALDESC:Events for Global Harvest, Island Church
REFRESH-INTERVAL;VALUE=DURATION:PT1H
X-Robots-Tag:noindex
X-PUBLISHED-TTL:PT1H
BEGIN:VTIMEZONE
TZID:UTC
BEGIN:STANDARD
TZOFFSETFROM:+0000
TZOFFSETTO:+0000
TZNAME:UTC
DTSTART:20240101T000000
END:STANDARD
END:VTIMEZONE
BEGIN:VEVENT
DTSTART;TZID=UTC:20240320T180000
DTEND;TZID=UTC:20240320T203000
DTSTAMP:20260422T005753
CREATED:20240319T161606Z
LAST-MODIFIED:20240319T161606Z
UID:4276-1710957600-1710966600@www.gharvestisland.org
SUMMARY:Mid-Week Service
DESCRIPTION:
URL:https://www.gharvestisland.org/event/mid-week-service/
CATEGORIES:Mid Week Service
ATTACH;FMTTYPE=image/png:https://www.gharvestisland.org/wp-content/uploads/2024/03/Frame-119-1-1.png
END:VEVENT
END:VCALENDAR