BEGIN:VCALENDAR
VERSION:2.0
PRODID:-//Global Harvest, Island Church - ECPv6.7.0//NONSGML v1.0//EN
CALSCALE:GREGORIAN
METHOD:PUBLISH
X-ORIGINAL-URL:https://www.gharvestisland.org
X-WR-CALDESC:Events for Global Harvest, Island Church
REFRESH-INTERVAL;VALUE=DURATION:PT1H
X-Robots-Tag:noindex
X-PUBLISHED-TTL:PT1H
BEGIN:VTIMEZONE
TZID:UTC
BEGIN:STANDARD
TZOFFSETFROM:+0000
TZOFFSETTO:+0000
TZNAME:UTC
DTSTART:20240101T000000
END:STANDARD
END:VTIMEZONE
BEGIN:VEVENT
DTSTART;TZID=UTC:20240310T083000
DTEND;TZID=UTC:20240310T094500
DTSTAMP:20260422T005744
CREATED:20240204T180452Z
LAST-MODIFIED:20240312T142129Z
UID:3943-1710059400-1710063900@www.gharvestisland.org
SUMMARY:Business Enterprise Services..
DESCRIPTION:
URL:https://www.gharvestisland.org/event/business-enterprise-services-2/
ATTACH;FMTTYPE=image/png:https://www.gharvestisland.org/wp-content/uploads/2024/02/Frame-100.png
END:VEVENT
BEGIN:VEVENT
DTSTART;TZID=UTC:20240310T100000
DTEND;TZID=UTC:20240310T233000
DTSTAMP:20260422T005744
CREATED:20240226T134731Z
LAST-MODIFIED:20240312T141925Z
UID:4157-1710064800-1710113400@www.gharvestisland.org
SUMMARY:5 Super Sunday
DESCRIPTION:
URL:https://www.gharvestisland.org/event/5-super-sunday-2/
ATTACH;FMTTYPE=image/png:https://www.gharvestisland.org/wp-content/uploads/2024/02/Untitled-1.png
END:VEVENT
END:VCALENDAR