BEGIN:VCALENDAR
VERSION:2.0
PRODID:-//Global Harvest, Island Church - ECPv6.7.0//NONSGML v1.0//EN
CALSCALE:GREGORIAN
METHOD:PUBLISH
X-ORIGINAL-URL:https://www.gharvestisland.org
X-WR-CALDESC:Events for Global Harvest, Island Church
REFRESH-INTERVAL;VALUE=DURATION:PT1H
X-Robots-Tag:noindex
X-PUBLISHED-TTL:PT1H
BEGIN:VTIMEZONE
TZID:UTC
BEGIN:STANDARD
TZOFFSETFROM:+0000
TZOFFSETTO:+0000
TZNAME:UTC
DTSTART:20240101T000000
END:STANDARD
END:VTIMEZONE
BEGIN:VEVENT
DTSTART;TZID=UTC:20240226T080000
DTEND;TZID=UTC:20240226T170000
DTSTAMP:20260422T021438
CREATED:20240226T132302Z
LAST-MODIFIED:20240226T132302Z
UID:4149-1708934400-1708966800@www.gharvestisland.org
SUMMARY:5  Super Sunday
DESCRIPTION:Date: March 10th 2024Time: First Service (BES) Business Enterprise Service 8:30am-10:00amCelebration Service: 10:00am – 12:00pm
URL:https://www.gharvestisland.org/event/5-super-sunday/
END:VEVENT
END:VCALENDAR