BEGIN:VCALENDAR
VERSION:2.0
PRODID:-//Global Harvest, Island Church - ECPv6.7.0//NONSGML v1.0//EN
CALSCALE:GREGORIAN
METHOD:PUBLISH
X-WR-CALNAME:Global Harvest, Island Church
X-ORIGINAL-URL:https://www.gharvestisland.org
X-WR-CALDESC:Events for Global Harvest, Island Church
REFRESH-INTERVAL;VALUE=DURATION:PT1H
X-Robots-Tag:noindex
X-PUBLISHED-TTL:PT1H
BEGIN:VTIMEZONE
TZID:UTC
BEGIN:STANDARD
TZOFFSETFROM:+0000
TZOFFSETTO:+0000
TZNAME:UTC
DTSTART:20240101T000000
END:STANDARD
END:VTIMEZONE
BEGIN:VEVENT
DTSTART;TZID=UTC:20240204T090000
DTEND;TZID=UTC:20240204T110000
DTSTAMP:20260421T202544
CREATED:20240204T180452Z
LAST-MODIFIED:20240204T220250Z
UID:3937-1707037200-1707044400@www.gharvestisland.org
SUMMARY:TAP (with Special Broadcast with Rev.)
DESCRIPTION:
URL:https://www.gharvestisland.org/event/tap-with-special-broadcast-with-rev/
CATEGORIES:TAP
END:VEVENT
END:VCALENDAR