BEGIN:VCALENDAR
VERSION:2.0
PRODID:-//Global Harvest, Island Church - ECPv6.7.0//NONSGML v1.0//EN
CALSCALE:GREGORIAN
METHOD:PUBLISH
X-WR-CALNAME:Global Harvest, Island Church
X-ORIGINAL-URL:https://www.gharvestisland.org
X-WR-CALDESC:Events for Global Harvest, Island Church
REFRESH-INTERVAL;VALUE=DURATION:PT1H
X-Robots-Tag:noindex
X-PUBLISHED-TTL:PT1H
BEGIN:VTIMEZONE
TZID:UTC
BEGIN:STANDARD
TZOFFSETFROM:+0000
TZOFFSETTO:+0000
TZNAME:UTC
DTSTART:20230101T000000
END:STANDARD
END:VTIMEZONE
BEGIN:VEVENT
DTSTART;TZID=UTC:20231217T090000
DTEND;TZID=UTC:20231217T110000
DTSTAMP:20260422T071524
CREATED:20230927T090016Z
LAST-MODIFIED:20231216T140330Z
UID:3616-1702803600-1702810800@www.gharvestisland.org
SUMMARY:Christmas Celebration Service
DESCRIPTION:
URL:https://www.gharvestisland.org/event/christmas-celebration-service-2023/
LOCATION:Global Harvest Church Island\, Four Points by Sheraton Lagos Plot 9/10 Block 2 Oniru Chieftaincy Estate\, Victoria Island\, Lagos\, 106104\, Nigeria
CATEGORIES:Celebration Service,Sunday Worship
ATTACH;FMTTYPE=image/jpeg:https://www.gharvestisland.org/wp-content/uploads/2023/12/Christmas-Celebration.jpg
END:VEVENT
END:VCALENDAR