BEGIN:VCALENDAR
VERSION:2.0
PRODID:-//Global Harvest, Island Church - ECPv6.7.0//NONSGML v1.0//EN
CALSCALE:GREGORIAN
METHOD:PUBLISH
X-ORIGINAL-URL:https://www.gharvestisland.org
X-WR-CALDESC:Events for Global Harvest, Island Church
REFRESH-INTERVAL;VALUE=DURATION:PT1H
X-Robots-Tag:noindex
X-PUBLISHED-TTL:PT1H
BEGIN:VTIMEZONE
TZID:UTC
BEGIN:STANDARD
TZOFFSETFROM:+0000
TZOFFSETTO:+0000
TZNAME:UTC
DTSTART:20230101T000000
END:STANDARD
END:VTIMEZONE
BEGIN:VEVENT
DTSTART;TZID=UTC:20231203T090000
DTEND;TZID=UTC:20231203T110000
DTSTAMP:20260422T172957
CREATED:20240927T090645Z
LAST-MODIFIED:20240129T225949Z
UID:2246-1701594000-1701601200@www.gharvestisland.org
SUMMARY:Celebration Service
DESCRIPTION:
URL:https://www.gharvestisland.org/event/celebration-service-7/
LOCATION:Global Harvest Church Island\, Four Points by Sheraton Lagos Plot 9/10 Block 2 Oniru Chieftaincy Estate\, Victoria Island\, Lagos\, 106104\, Nigeria
CATEGORIES:Celebration Service,Sunday Worship
ATTACH;FMTTYPE=image/jpeg:https://www.gharvestisland.org/wp-content/uploads/2023/09/Celebration-Service-e1698912288904.jpg
END:VEVENT
END:VCALENDAR