BEGIN:VCALENDAR
VERSION:2.0
PRODID:-//Global Harvest, Island Church - ECPv6.7.0//NONSGML v1.0//EN
CALSCALE:GREGORIAN
METHOD:PUBLISH
X-ORIGINAL-URL:https://www.gharvestisland.org
X-WR-CALDESC:Events for Global Harvest, Island Church
REFRESH-INTERVAL;VALUE=DURATION:PT1H
X-Robots-Tag:noindex
X-PUBLISHED-TTL:PT1H
BEGIN:VTIMEZONE
TZID:UTC
BEGIN:STANDARD
TZOFFSETFROM:+0000
TZOFFSETTO:+0000
TZNAME:UTC
DTSTART:20230101T000000
END:STANDARD
END:VTIMEZONE
BEGIN:VEVENT
DTSTART;TZID=UTC:20230924T090000
DTEND;TZID=UTC:20230924T110000
DTSTAMP:20260422T125334
CREATED:20230927T090530Z
LAST-MODIFIED:20230927T090530Z
UID:2226-1695546000-1695553200@www.gharvestisland.org
SUMMARY:Super Sunday - Intense Special Worship Service
DESCRIPTION:
URL:https://www.gharvestisland.org/event/super-sunday-intense-special-worship-service/
LOCATION:Global Harvest Church Island\, Four Points by Sheraton Lagos Plot 9/10 Block 2 Oniru Chieftaincy Estate\, Victoria Island\, Lagos\, 106104\, Nigeria
CATEGORIES:Intense,Sunday Worship
END:VEVENT
END:VCALENDAR