BEGIN:VCALENDAR
VERSION:2.0
PRODID:-//Global Harvest, Island Church - ECPv6.7.0//NONSGML v1.0//EN
CALSCALE:GREGORIAN
METHOD:PUBLISH
X-ORIGINAL-URL:https://www.gharvestisland.org
X-WR-CALDESC:Events for Global Harvest, Island Church
REFRESH-INTERVAL;VALUE=DURATION:PT1H
X-Robots-Tag:noindex
X-PUBLISHED-TTL:PT1H
BEGIN:VTIMEZONE
TZID:UTC
BEGIN:STANDARD
TZOFFSETFROM:+0000
TZOFFSETTO:+0000
TZNAME:UTC
DTSTART:20230101T000000
END:STANDARD
END:VTIMEZONE
BEGIN:VEVENT
DTSTART;TZID=UTC:20230801T180000
DTEND;TZID=UTC:20230803T190000
DTSTAMP:20260422T220510
CREATED:20230927T090504Z
LAST-MODIFIED:20230927T090504Z
UID:2214-1690912800-1691089200@www.gharvestisland.org
SUMMARY:3 Days of glory/Fasting & Prayers
DESCRIPTION:
URL:https://www.gharvestisland.org/event/3-days-of-glory-fasting-prayers/
LOCATION:Virtual\, https://us02web.zoom.us/j/7456397250\, Zoom
CATEGORIES:Days Of Grace,Prayer
END:VEVENT
END:VCALENDAR