BEGIN:VCALENDAR
VERSION:2.0
PRODID:-//Global Harvest, Island Church - ECPv6.7.0//NONSGML v1.0//EN
CALSCALE:GREGORIAN
METHOD:PUBLISH
X-WR-CALNAME:Global Harvest, Island Church
X-ORIGINAL-URL:https://www.gharvestisland.org
X-WR-CALDESC:Events for Global Harvest, Island Church
REFRESH-INTERVAL;VALUE=DURATION:PT1H
X-Robots-Tag:noindex
X-PUBLISHED-TTL:PT1H
BEGIN:VTIMEZONE
TZID:UTC
BEGIN:STANDARD
TZOFFSETFROM:+0000
TZOFFSETTO:+0000
TZNAME:UTC
DTSTART:20230101T000000
END:STANDARD
END:VTIMEZONE
BEGIN:VEVENT
DTSTART;TZID=UTC:20230708T070000
DTEND;TZID=UTC:20230708T090000
DTSTAMP:20260422T222205
CREATED:20230927T090437Z
LAST-MODIFIED:20230927T090437Z
UID:2207-1688799600-1688806800@www.gharvestisland.org
SUMMARY:Hour of Grace
DESCRIPTION:
URL:https://www.gharvestisland.org/event/hour-of-grace/
LOCATION:Virtual\, https://us02web.zoom.us/j/7456397250\, Zoom
CATEGORIES:Hour of Grace
END:VEVENT
END:VCALENDAR